0.4000000000
0.0000000000
0.0000000000
-0.4000000000
-492499.8000000000
-1100000.2000000000
