Workbook

Sheet Rekapitulace stavby
A1: Export Komplet | BA1: 2.0 | BT1: False | BU1: False | BV1: {9d73fb40-70b0-4400-af96-0149877d657f}
AR2: >> skryté sloupce << | BS2: 0,01 | BT2: 21
BS3: 0,01 | BT3: 15
D4: REKAPITULACE STAVBY | AS4: v --- níže se nacházejí doplnkové a pomocné údaje k sestavám --- v | BS4: 0,00001
D5: Kód: | K5: D1 | BS5: 0,01
D6: Stavba: | K6: Fasáda Těškovice-v1 | BS6: 0,01
D7: KSO: | AK7: CC-CZ: | BS7: 0,01
D8: Místo: | K8: Těškovice | AK8: Datum: | BS8: 0,01
BS9: 0,01
D10: Zadavatel: | AK10: IČ: | AN10: 00535117 | BS10: 0,01
E11: Obec Těškovice, Těškovice 170, 747 64 | AK11: DIČ: | BS11: 0,01
BS12: 0,01
D13: Zhotovitel: | AK13: IČ: | BS13: 0,01
AK14: DIČ: | BS14: 0,01
BS15: False
D16: Projektant: | AK16: IČ: | BS16: False
AK17: DIČ: | BS17: True
BS18: 0,01
D19: Zpracovatel: | AK19: IČ: | BS19: 0,01
AK20: DIČ: | BS20: True
D22: Poznámka:
D26: Cena bez DPH | AK26: =ROUND(AG94,2) -> 0
L28: Sazba daně | W28: Základ daně | AK28: Výše daně
D29: DPH | F29: základní | L29: 0.21 | W29: =ROUND(AZ94, 2) -> 0 | AK29: =ROUND(AV94, 2) -> 0
F30: snížená | L30: 0.15 | W30: =ROUND(BA94, 2) -> 0 | AK30: =ROUND(AW94, 2) -> 0
F31: zákl. přenesená | L31: 0.21 | W31: =ROUND(BB94, 2) -> 0 | AK31: 0
F32: sníž. přenesená | L32: 0.15 | W32: =ROUND(BC94, 2) -> 0 | AK32: 0
F33: nulová | L33: 0 | W33: =ROUND(BD94, 2) -> 0 | AK33: 0
D35: Cena s DPH | T35: v | X35: CZK | AK35: =SUM(AK26:AK33) -> 0
D49: Projektant | AH49: Zpracovatel
D60: Datum a podpis: | V60: Razítko | AH60: Datum a podpis: | AM60: Razítko
D64: Objednavatel | AH64: Zhotovitel
D75: Datum a podpis: | V75: Razítko | AH75: Datum a podpis: | AM75: Razítko
C82: REKAPITULACE OBJEKTŮ STAVBY A SOUPISŮ PRACÍ
C84: Kód: | L84: =K5 -> D1
C85: Stavba: | L85: =K6 -> Fasáda Těškovice-v1
C87: Místo: | L87: =IF(K8="","",K8) -> Těškovice | AI87: Datum: | AM87: =IF(AN8= "","",AN8)
C89: Zadavatel: | L89: =IF(E11= "","",E11) -> Obec Těškovice, Těškovice 170, 747 64 | AI89: Projektant: | AM89: =IF(E17="","",E17) | AS89: Informatívní údaje z listů zakázek
C90: Zhotovitel: | L90: =IF(E14="","",E14) | AI90: Zpracovatel: | AM90: =IF(E20="","",E20)
C92: Kód | I92: Popis | AG92: Cena bez DPH [CZK] | AN92: Cena s DPH [CZK] | AQ92: Typ | AS92: z toho Ostat._x000D_ náklady [CZK] | AT92: DPH [CZK] | AU92: Normohodiny [h] | AV92: DPH základní [CZK] | AW92: DPH snížená [CZK] | AX92: DPH základní přenesená_x000D_ [CZK] | AY92: DPH snížená přenesená_x000D_ [CZK] | AZ92: Základna_x000D_ DPH základní | BA92: Základna_x000D_ DPH snížená | BB92: Základna_x000D_ DPH zákl. přenesená | BC92: Základna_x000D_ DPH sníž. přenesená | BD92: Základna_x000D_ DPH nulová
C94: Náklady z rozpočtů | AG94: =ROUND(AG95,2) -> 0 | AN94: =SUM(AG94,AT94) -> 0 | AS94: =ROUND(AS95,2) -> 0 | AT94: =ROUND(SUM(AV94:AW94),2) -> 0 | AU94: =ROUND(AU95,5) -> 1141.8124 | AV94: =ROUND(AZ94*L29,2) -> 0 | AW94: =ROUND(BA94*L30,2) -> 0 | AX94: =ROUND(BB94*L29,2) -> 0 | AY94: =ROUND(BC94*L30,2) -> 0 | AZ94: =ROUND(AZ95,2) -> 0 | BA94: =ROUND(BA95,2) -> 0 | BB94: =ROUND(BB95,2) -> 0 | BC94: =ROUND(BC95,2) -> 0 | BD94: =ROUND(BD95,2) -> 0 | BS94: D | BT94: 0 | BU94: ###NOIMPORT### | BV94: IMPORT | BW94: {9d73fb40-70b0-4400-af96-0149877d657f} | BX94: {00000000-0000-0000-0000-000000000000}
A95: / | D95: 1 | J95: Stavební část | AG95: ='1 - Stavební část'!J32 -> 0 | AN95: =SUM(AG95,AT95) -> 0 | AQ95: STA | AS95: 0 | AT95: =ROUND(SUM(AV95:AW95),2) -> 0 | AU95: ='1 - Stavební část'!P131 -> 1141.8124 | AV95: ='1 - Stavební část'!J35 -> 0 | AW95: ='1 - Stavební část'!J36 -> 0 | AX95: ='1 - Stavební část'!J37 -> 0 | AY95: ='1 - Stavební část'!J38 -> 0 | AZ95: ='1 - Stavební část'!F35 -> 0 | BA95: ='1 - Stavební část'!F36 -> 0 | BB95: ='1 - Stavební část'!F37 -> 0 | BC95: ='1 - Stavební část'!F38 -> 0 | BD95: ='1 - Stavební část'!F39 -> 0 | BT95: 1 | BV95: IMPORT | BW95: {e8f28b6a-25a9-44e0-b847-7754c92ad85b} | BX95: {9d73fb40-70b0-4400-af96-0149877d657f} | CM95: 2

Sheet 1 - Stavební část
L2: >> skryté sloupce << | AT2: {e8f28b6a-25a9-44e0-b847-7754c92ad85b}
AT3: 2
D4: KRYCÍ LIST SOUPISU PRACÍ | M4: v --- níže se nacházejí doplnkové a pomocné údaje k sestavám --- v | AT4: False
D6: Stavba:
E7: ='Rekapitulace stavby'!K6 -> Fasáda Těškovice-v1
D8: Objekt:
E9: 1 - Stavební část
D11: KSO: | I11: CC-CZ:
D12: Místo: | F12: Těškovice | I12: Datum:
D14: Zadavatel: | I14: IČ: | J14: 00535117
E15: Obec Těškovice, Těškovice 170, 747 64 | I15: DIČ:
D17: Zhotovitel: | I17: IČ:
I18: DIČ:
D20: Projektant: | I20: IČ: | J20: =IF('Rekapitulace stavby'!AN16="","",'Rekapitulace stavby'!AN16)
E21: =IF('Rekapitulace stavby'!E17="","",'Rekapitulace stavby'!E17) | I21: DIČ: | J21: =IF('Rekapitulace stavby'!AN17="","",'Rekapitulace stavby'!AN17)
D23: Zpracovatel: | I23: IČ: | J23: =IF('Rekapitulace stavby'!AN19="","",'Rekapitulace stavby'!AN19)
E24: =IF('Rekapitulace stavby'!E20="","",'Rekapitulace stavby'!E20) | I24: DIČ: | J24: =IF('Rekapitulace stavby'!AN20="","",'Rekapitulace stavby'!AN20)
D26: Poznámka:
D30: Náklady z rozpočtu | J30: =J96 -> 0
D31: Ostatní náklady | J31: =J110 -> 0
D32: Cena bez DPH | J32: =ROUND(J30 + J31, 2) -> 0
F34: Základ daně | I34: Sazba daně | J34: Výše daně
D35: DPH | E35: základní | F35: =ROUND((SUM(BE110:BE111) + SUM(BE131:BE180)), 2) -> 0 | I35: 0.21 | J35: =ROUND(((SUM(BE110:BE111) + SUM(BE131:BE180))*I35), 2) -> 0
E36: snížená | F36: =ROUND((SUM(BF110:BF111) + SUM(BF131:BF180)), 2) -> 0 | I36: 0.15 | J36: =ROUND(((SUM(BF110:BF111) + SUM(BF131:BF180))*I36), 2) -> 0
E37: zákl. přenesená | F37: =ROUND((SUM(BG110:BG111) + SUM(BG131:BG180)), 2) -> 0 | I37: 0.21 | J37: =0 -> 0
E38: sníž. přenesená | F38: =ROUND((SUM(BH110:BH111) + SUM(BH131:BH180)), 2) -> 0 | I38: 0.15 | J38: =0 -> 0
E39: nulová | F39: =ROUND((SUM(BI110:BI111) + SUM(BI131:BI180)), 2) -> 0 | I39: 0 | J39: =0 -> 0
D41: Cena s DPH | G41: v | H41: CZK | J41: =SUM(J32:J39) -> 0
D50: Projektant | G50: Zpracovatel
D61: Datum a podpis: | F61: Razítko | G61: Datum a podpis: | J61: Razítko
D65: Objednavatel | G65: Zhotovitel
D76: Datum a podpis: | F76: Razítko | G76: Datum a podpis: | J76: Razítko
C82: REKAPITULACE ČLENĚNÍ SOUPISU PRACÍ
C84: Stavba:
E85: =E7 -> Fasáda Těškovice-v1
C86: Objekt:
E87: =E9 -> 1 - Stavební část
C89: Místo: | F89: =F12 -> Těškovice | I89: Datum:
C91: Zadavatel: | F91: =E15 -> Obec Těškovice, Těškovice 170, 747 64 | I91: Projektant: | J91: =E21
C92: Zhotovitel: | I92: Zpracovatel: | J92: =E24
C94: Kód dílu - Popis | J94: Cena celkem [CZK]
C96: 1) Náklady ze soupisu prací | J96: =J131 -> 0 | AU96: -1
D97: HSV - Práce a dodávky HSV | J97: =J132 -> 0
D98: 6 - Úpravy povrchů, podlahy a osazování výplní | J98: =J133 -> 0
D99: 9 - Ostatní konstrukce a práce, bourání | J99: =J151 -> 0
D100: 997 - Přesun sutě | J100: =J159 -> 0
D101: 998 - Přesun hmot | J101: =J164 -> 0
D102: PSV - Práce a dodávky PSV | J102: =J166 -> 0
D103: 764 - Konstrukce klempířské | J103: =J167 -> 0
D104: 767 - Konstrukce zámečnické | J104: =J174 -> 0
D105: VRN - Vedlejší rozpočtové náklady | J105: =J176 -> 0
D106: VRN3 - Zařízení staveniště | J106: =J177 -> 0
D107: VRN6 - Územní vlivy | J107: =J179 -> 0
C110: 2) Ostatní náklady | J110: 0 | N110: DPH
C112: Celkové náklady za stavbu 1) + 2) | J112: =ROUND(J96+J110,2) -> 0
C118: SOUPIS PRACÍ
C120: Stavba:
E121: =E7 -> Fasáda Těškovice-v1
C122: Objekt:
E123: =E9 -> 1 - Stavební část
C125: Místo: | F125: =F12 -> Těškovice | I125: Datum: | J125: =IF(J12="","",J12)
C127: Zadavatel: | F127: =E15 -> Obec Těškovice, Těškovice 170, 747 64 | I127: Projektant: | J127: =E21
C128: Zhotovitel: | F128: =IF(E18="","",E18) | I128: Zpracovatel: | J128: =E24
C130: PČ | D130: Typ | E130: Kód | F130: Popis | G130: MJ | H130: Množství | I130: J.cena [CZK] | J130: Cena celkem [CZK] | K130: Cenová soustava | N130: DPH | O130: J. Nh [h] | P130: Nh celkem [h] | Q130: J. hmotnost [t] | R130: Hmotnost celkem [t] | S130: J. suť [t] | T130: Suť Celkem [t]
C131: Náklady soupisu celkem | J131: =BK131 -> 0 | P131: =P132+P166+P176 -> 1141.8124 | R131: =R132+R166+R176 -> 9.4674666 | T131: =T132+T166+T176 -> 0.148074 | AT131: D | AU131: -1 | BK131: =BK132+BK166+BK176 -> 0
D132: D | E132: HSV | F132: Práce a dodávky HSV - Práce a dodávky HSV | J132: =BK132 -> 0 | P132: =P133+P151+P159+P164 -> 1100.1682 | R132: =R133+R151+R159+R164 -> 9.2202566 | T132: =T133+T151+T159+T164 -> 0 | AR132: 1 | AT132: D | AU132: 0 | AY132: ROZPOCET | BK132: =BK133+BK151+BK159+BK164 -> 0
D133: D | E133: 6 | F133: Úpravy povrchů, podlahy a osazování výplní - Úpravy povrchů, podlahy a osazování výplní | J133: =BK133 -> 0 | P133: =SUM(P134:P150) -> 815.11438 | R133: =SUM(R134:R150) -> 9.2202566 | T133: =SUM(T134:T150) -> 0 | AR133: 1 | AT133: D | AU133: 1 | AY133: ROZPOCET | BK133: =SUM(BK134:BK150) -> 0
C134: 1 | D134: K | E134: 621211001 | F134: Montáž kontaktního zateplení vnějších podhledů (římsa) lepením polystyrénových desek tl do 40 mm | G134: m2 | H134: 24.388 | I134: 0 | J134: =ROUND(I134*H134,2) -> 0 | N134: základní | O134: 1.32 | P134: =O134*H134 -> 32.19216 | Q134: 0.00829 | R134: =Q134*H134 -> 0.20217652 | S134: 0 | T134: =S134*H134 -> 0 | AR134: 4 | AT134: K | AU134: 2 | AY134: ROZPOCET | BE134: =IF(N134="základní",J134,0) -> 0 | BF134: =IF(N134="snížená",J134,0) -> 0 | BG134: =IF(N134="zákl. přenesená",J134,0) -> 0 | BH134: =IF(N134="sníž. přenesená",J134,0) -> 0 | BI134: =IF(N134="nulová",J134,0) -> 0 | BJ134: 1 | BK134: =ROUND(I134*H134,2) -> 0 | BL134: 4 | BM134: 1784209231
C135: 2 | D135: M | E135: 28375931 | F135: deska EPS 70 fasádní λ=0,039 tl 30mm | G135: m2 | H135: 24.87576 | I135: 0 | J135: =ROUND(I135*H135,2) -> 0 | N135: základní | O135: 0 | P135: =O135*H135 -> 0 | Q135: 0.00051 | R135: =Q135*H135 -> 0.012686638 | S135: 0 | T135: =S135*H135 -> 0 | AR135: 8 | AT135: M | AU135: 2 | AY135: ROZPOCET | BE135: =IF(N135="základní",J135,0) -> 0 | BF135: =IF(N135="snížená",J135,0) -> 0 | BG135: =IF(N135="zákl. přenesená",J135,0) -> 0 | BH135: =IF(N135="sníž. přenesená",J135,0) -> 0 | BI135: =IF(N135="nulová",J135,0) -> 0 | BJ135: 1 | BK135: =ROUND(I135*H135,2) -> 0 | BL135: 4 | BM135: 913933979
C136: 3 | D136: K | E136: 622131121 | F136: Penetrační disperzní nátěr vnějších stěn nanášený ručně | G136: m2 | H136: 425.69839 | I136: 0 | J136: =ROUND(I136*H136,2) -> 0 | N136: základní | O136: 0.074 | P136: =O136*H136 -> 31.501681 | Q136: 0.00026 | R136: =Q136*H136 -> 0.11068158 | S136: 0 | T136: =S136*H136 -> 0 | AR136: 4 | AT136: K | AU136: 2 | AY136: ROZPOCET | BE136: =IF(N136="základní",J136,0) -> 0 | BF136: =IF(N136="snížená",J136,0) -> 0 | BG136: =IF(N136="zákl. přenesená",J136,0) -> 0 | BH136: =IF(N136="sníž. přenesená",J136,0) -> 0 | BI136: =IF(N136="nulová",J136,0) -> 0 | BJ136: 1 | BK136: =ROUND(I136*H136,2) -> 0 | BL136: 4 | BM136: 1035573045
C137: 4 | D137: K | E137: 622142001 | F137: Potažení vnějších stěn sklovláknitým pletivem vtlačeným do tenkovrstvé hmoty | G137: m2 | H137: 425.69839 | I137: 0 | J137: =ROUND(I137*H137,2) -> 0 | N137: základní | O137: 0.33 | P137: =O137*H137 -> 140.48047 | Q137: 0.00438 | R137: =Q137*H137 -> 1.8645589 | S137: 0 | T137: =S137*H137 -> 0 | AR137: 4 | AT137: K | AU137: 2 | AY137: ROZPOCET | BE137: =IF(N137="základní",J137,0) -> 0 | BF137: =IF(N137="snížená",J137,0) -> 0 | BG137: =IF(N137="zákl. přenesená",J137,0) -> 0 | BH137: =IF(N137="sníž. přenesená",J137,0) -> 0 | BI137: =IF(N137="nulová",J137,0) -> 0 | BJ137: 1 | BK137: =ROUND(I137*H137,2) -> 0 | BL137: 4 | BM137: 2014778170
C138: 5 | D138: K | E138: 622143004 | F138: Montáž omítkových samolepících začišťovacích profilů pro spojení s okenním rámem | G138: m | H138: 159.627 | I138: 0 | J138: =ROUND(I138*H138,2) -> 0 | N138: základní | O138: 0.096 | P138: =O138*H138 -> 15.324192 | Q138: 0 | R138: =Q138*H138 -> 0 | S138: 0 | T138: =S138*H138 -> 0 | AR138: 4 | AT138: K | AU138: 2 | AY138: ROZPOCET | BE138: =IF(N138="základní",J138,0) -> 0 | BF138: =IF(N138="snížená",J138,0) -> 0 | BG138: =IF(N138="zákl. přenesená",J138,0) -> 0 | BH138: =IF(N138="sníž. přenesená",J138,0) -> 0 | BI138: =IF(N138="nulová",J138,0) -> 0 | BJ138: 1 | BK138: =ROUND(I138*H138,2) -> 0 | BL138: 4 | BM138: -1006354457
C139: 6 | D139: M | E139: 59051510 | F139: profil začišťovací s okapnicí PVC s výztužnou tkaninou pro nadpraží ETICS | G139: m | H139: 8.253 | I139: 0 | J139: =ROUND(I139*H139,2) -> 0 | N139: základní | O139: 0 | P139: =O139*H139 -> 0 | Q139: 0.0003 | R139: =Q139*H139 -> 0.0024759 | S139: 0 | T139: =S139*H139 -> 0 | AR139: 8 | AT139: M | AU139: 2 | AY139: ROZPOCET | BE139: =IF(N139="základní",J139,0) -> 0 | BF139: =IF(N139="snížená",J139,0) -> 0 | BG139: =IF(N139="zákl. přenesená",J139,0) -> 0 | BH139: =IF(N139="sníž. přenesená",J139,0) -> 0 | BI139: =IF(N139="nulová",J139,0) -> 0 | BJ139: 1 | BK139: =ROUND(I139*H139,2) -> 0 | BL139: 4 | BM139: 2039590790
C140: 7 | D140: M | E140: 28342205 | F140: profil začišťovací PVC 6mm s výztužnou tkaninou pro ostění ETICS | G140: m | H140: 159.35535 | I140: 0 | J140: =ROUND(I140*H140,2) -> 0 | N140: základní | O140: 0 | P140: =O140*H140 -> 0 | Q140: 4e-05 | R140: =Q140*H140 -> 0.006374214 | S140: 0 | T140: =S140*H140 -> 0 | AR140: 8 | AT140: M | AU140: 2 | AY140: ROZPOCET | BE140: =IF(N140="základní",J140,0) -> 0 | BF140: =IF(N140="snížená",J140,0) -> 0 | BG140: =IF(N140="zákl. přenesená",J140,0) -> 0 | BH140: =IF(N140="sníž. přenesená",J140,0) -> 0 | BI140: =IF(N140="nulová",J140,0) -> 0 | BJ140: 1 | BK140: =ROUND(I140*H140,2) -> 0 | BL140: 4 | BM140: 1587399700
C141: 8 | D141: K | E141: 622211021 | F141: Montáž kontaktního zateplení vnějších stěn lepením a mechanickým kotvením polystyrénových desek tl do 120 mm | G141: m2 | H141: 40.95 | I141: 0 | J141: =ROUND(I141*H141,2) -> 0 | N141: základní | O141: 1.04 | P141: =O141*H141 -> 42.588 | Q141: 0.00852 | R141: =Q141*H141 -> 0.348894 | S141: 0 | T141: =S141*H141 -> 0 | AR141: 4 | AT141: K | AU141: 2 | AY141: ROZPOCET | BE141: =IF(N141="základní",J141,0) -> 0 | BF141: =IF(N141="snížená",J141,0) -> 0 | BG141: =IF(N141="zákl. přenesená",J141,0) -> 0 | BH141: =IF(N141="sníž. přenesená",J141,0) -> 0 | BI141: =IF(N141="nulová",J141,0) -> 0 | BJ141: 1 | BK141: =ROUND(I141*H141,2) -> 0 | BL141: 4 | BM141: -190518714
C142: 9 | D142: M | E142: 28376443 | F142: deska z polystyrénu XPS, hrana rovná a strukturovaný povrch 300kPa tl 100mm | G142: m2 | H142: 41.769 | I142: 0 | J142: =ROUND(I142*H142,2) -> 0 | N142: základní | O142: 0 | P142: =O142*H142 -> 0 | Q142: 0.003 | R142: =Q142*H142 -> 0.125307 | S142: 0 | T142: =S142*H142 -> 0 | AR142: 8 | AT142: M | AU142: 2 | AY142: ROZPOCET | BE142: =IF(N142="základní",J142,0) -> 0 | BF142: =IF(N142="snížená",J142,0) -> 0 | BG142: =IF(N142="zákl. přenesená",J142,0) -> 0 | BH142: =IF(N142="sníž. přenesená",J142,0) -> 0 | BI142: =IF(N142="nulová",J142,0) -> 0 | BJ142: 1 | BK142: =ROUND(I142*H142,2) -> 0 | BL142: 4 | BM142: 1023905504
C143: 10 | D143: K | E143: 622211031 | F143: Montáž kontaktního zateplení vnějších stěn lepením a mechanickým kotvením polystyrénových desek do betonu a zdiva tl přes 120 do 160 mm | G143: m2 | H143: 384.748 | I143: 0 | J143: =ROUND(I143*H143,2) -> 0 | N143: základní | O143: 1.06 | P143: =O143*H143 -> 407.83288 | Q143: 0.0086 | R143: =Q143*H143 -> 3.3088328 | S143: 0 | T143: =S143*H143 -> 0 | AR143: 4 | AT143: K | AU143: 2 | AY143: ROZPOCET | BE143: =IF(N143="základní",J143,0) -> 0 | BF143: =IF(N143="snížená",J143,0) -> 0 | BG143: =IF(N143="zákl. přenesená",J143,0) -> 0 | BH143: =IF(N143="sníž. přenesená",J143,0) -> 0 | BI143: =IF(N143="nulová",J143,0) -> 0 | BJ143: 1 | BK143: =ROUND(I143*H143,2) -> 0 | BL143: 4 | BM143: 1141168012
C144: 11 | D144: M | E144: 28375951 | F144: deska EPS 70 fasádní λ=0,039 tl 140mm | G144: m2 | H144: 403.9854 | I144: 0 | J144: =ROUND(I144*H144,2) -> 0 | N144: základní | O144: 0 | P144: =O144*H144 -> 0 | Q144: 0.00238 | R144: =Q144*H144 -> 0.96148525 | S144: 0 | T144: =S144*H144 -> 0 | AR144: 8 | AT144: M | AU144: 2 | AY144: ROZPOCET | BE144: =IF(N144="základní",J144,0) -> 0 | BF144: =IF(N144="snížená",J144,0) -> 0 | BG144: =IF(N144="zákl. přenesená",J144,0) -> 0 | BH144: =IF(N144="sníž. přenesená",J144,0) -> 0 | BI144: =IF(N144="nulová",J144,0) -> 0 | BJ144: 1 | BK144: =ROUND(I144*H144,2) -> 0 | BL144: 4 | BM144: 1482122991
C145: 12 | D145: K | E145: 622325113 | F145: Oprava vnější vápenné hladké omítky členitosti 1 stěn v rozsahu do 50% | G145: m2 | H145: 20 | I145: 0 | J145: =ROUND(I145*H145,2) -> 0 | N145: základní | O145: 0.32 | P145: =O145*H145 -> 6.4 | Q145: 0.02035 | R145: =Q145*H145 -> 0.407 | S145: 0 | T145: =S145*H145 -> 0 | AR145: 4 | AT145: K | AU145: 2 | AY145: ROZPOCET | BE145: =IF(N145="základní",J145,0) -> 0 | BF145: =IF(N145="snížená",J145,0) -> 0 | BG145: =IF(N145="zákl. přenesená",J145,0) -> 0 | BH145: =IF(N145="sníž. přenesená",J145,0) -> 0 | BI145: =IF(N145="nulová",J145,0) -> 0 | BJ145: 1 | BK145: =ROUND(I145*H145,2) -> 0 | BL145: 4 | BM145: 1142663107
... C150: 17 | D150: K | E150: 629999011 | F150: Příplatek k úpravám povrchů za provádění styku dvou barev nebo struktur na fasádě | G150: m | H150: 99.93 | I150: 0 | J150: =ROUND(I150*H150,2) -> 0 | N150: základní | O150: 0.075 | P150: =O150*H150 -> 7.49475 | Q150: 0 | R150: =Q150*H150 -> 0 | S150: 0 | T150: =S150*H150 -> 0 | AR150: 4 | AT150: K | AU150: 2 | AY150: ROZPOCET | BE150: =IF(N150="základní",J150,0) -> 0 | BF150: =IF(N150="snížená",J150,0) -> 0 | BG150: =IF(N150="zákl. přenesená",J150,0) -> 0 | BH150: =IF(N150="sníž. přenesená",J150,0) -> 0 | BI150: =IF(N150="nulová",J150,0) -> 0 | BJ150: 1 | BK150: =ROUND(I150*H150,2) -> 0 | BL150: 4 | BM150: 2077083033
D151: D | E151: 9 | F151: Ostatní konstrukce a práce, bourání - Ostatní konstrukce a práce, bourání | J151: =BK151 -> 0 | P151: =SUM(P152:P158) -> 247.75643 | R151: =SUM(R152:R158) -> 0 | T151: =SUM(T152:T158) -> 0 | AR151: 1 | AT151: D | AU151: 1 | AY151: ROZPOCET | BK151: =SUM(BK152:BK158) -> 0
C152: 18 | D152: K | E152: 941111111 | F152: Montáž lešení řadového trubkového lehkého s podlahami zatížení do 200 kg/m2 š do 0,9 m v do 10 m | G152: m2 | H152: 425.69839 | I152: 0 | J152: =ROUND(I152*H152,2) -> 0 | N152: základní | O152: 0.14 | P152: =O152*H152 -> 59.597775 | Q152: 0 | R152: =Q152*H152 -> 0 | S152: 0 | T152: =S152*H152 -> 0 | AR152: 4 | AT152: K | AU152: 2 | AY152: ROZPOCET | BE152: =IF(N152="základní",J152,0) -> 0 | BF152: =IF(N152="snížená",J152,0) -> 0 | BG152: =IF(N152="zákl. přenesená",J152,0) -> 0 | BH152: =IF(N152="sníž. přenesená",J152,0) -> 0 | BI152: =IF(N152="nulová",J152,0) -> 0 | BJ152: 1 | BK152: =ROUND(I152*H152,2) -> 0 | BL152: 4 | BM152: -1232290660
C153: 19 | D153: K | E153: 941111211 | F153: Příplatek k lešení řadovému trubkovému lehkému s podlahami š 0,9 m v 10 m za první a ZKD den použití | G153: m2 | H153: 12770.952 | I153: 0 | J153: =ROUND(I153*H153,2) -> 0 | N153: základní | O153: 0 | P153: =O153*H153 -> 0 | Q153: 0 | R153: =Q153*H153 -> 0 | S153: 0 | T153: =S153*H153 -> 0 | AR153: 4 | AT153: K | AU153: 2 | AY153: ROZPOCET | BE153: =IF(N153="základní",J153,0) -> 0 | BF153: =IF(N153="snížená",J153,0) -> 0 | BG153: =IF(N153="zákl. přenesená",J153,0) -> 0 | BH153: =IF(N153="sníž. přenesená",J153,0) -> 0 | BI153: =IF(N153="nulová",J153,0) -> 0 | BJ153: 1 | BK153: =ROUND(I153*H153,2) -> 0 | BL153: 4 | BM153: -1795517399
C154: 20 | D154: K | E154: 941111811 | F154: Demontáž lešení řadového trubkového lehkého s podlahami zatížení do 200 kg/m2 š do 0,9 m v do 10 m | G154: m2 | H154: 425.69839 | I154: 0 | J154: =ROUND(I154*H154,2) -> 0 | N154: základní | O154: 0.087 | P154: =O154*H154 -> 37.03576 | Q154: 0 | R154: =Q154*H154 -> 0 | S154: 0 | T154: =S154*H154 -> 0 | AR154: 4 | AT154: K | AU154: 2 | AY154: ROZPOCET | BE154: =IF(N154="základní",J154,0) -> 0 | BF154: =IF(N154="snížená",J154,0) -> 0 | BG154: =IF(N154="zákl. přenesená",J154,0) -> 0 | BH154: =IF(N154="sníž. přenesená",J154,0) -> 0 | BI154: =IF(N154="nulová",J154,0) -> 0 | BJ154: 1 | BK154: =ROUND(I154*H154,2) -> 0 | BL154: 4 | BM154: -1091195930
C155: 21 | D155: K | E155: 944511111 | F155: Montáž ochranné sítě z textilie z umělých vláken | G155: m2 | H155: 425.698 | I155: 0 | J155: =ROUND(I155*H155,2) -> 0 | N155: základní | O155: 0.049 | P155: =O155*H155 -> 20.859202 | Q155: 0 | R155: =Q155*H155 -> 0 | S155: 0 | T155: =S155*H155 -> 0 | AR155: 4 | AT155: K | AU155: 2 | AY155: ROZPOCET | BE155: =IF(N155="základní",J155,0) -> 0 | BF155: =IF(N155="snížená",J155,0) -> 0 | BG155: =IF(N155="zákl. přenesená",J155,0) -> 0 | BH155: =IF(N155="sníž. přenesená",J155,0) -> 0 | BI155: =IF(N155="nulová",J155,0) -> 0 | BJ155: 1 | BK155: =ROUND(I155*H155,2) -> 0 | BL155: 4 | BM155: -1818288845
C156: 22 | D156: K | E156: 944511211 | F156: Příplatek k ochranné síti za první a ZKD den použití | G156: m2 | H156: 12770.94 | I156: 0 | J156: =ROUND(I156*H156,2) -> 0 | N156: základní | O156: 0 | P156: =O156*H156 -> 0 | Q156: 0 | R156: =Q156*H156 -> 0 | S156: 0 | T156: =S156*H156 -> 0 | AR156: 4 | AT156: K | AU156: 2 | AY156: ROZPOCET | BE156: =IF(N156="základní",J156,0) -> 0 | BF156: =IF(N156="snížená",J156,0) -> 0 | BG156: =IF(N156="zákl. přenesená",J156,0) -> 0 | BH156: =IF(N156="sníž. přenesená",J156,0) -> 0 | BI156: =IF(N156="nulová",J156,0) -> 0 | BJ156: 1 | BK156: =ROUND(I156*H156,2) -> 0 | BL156: 4 | BM156: 957491684
C157: 23 | D157: K | E157: 944511811 | F157: Demontáž ochranné sítě z textilie z umělých vláken | G157: m2 | H157: 425.698 | I157: 0 | J157: =ROUND(I157*H157,2) -> 0 | N157: základní | O157: 0.033 | P157: =O157*H157 -> 14.048034 | Q157: 0 | R157: =Q157*H157 -> 0 | S157: 0 | T157: =S157*H157 -> 0 | AR157: 4 | AT157: K | AU157: 2 | AY157: ROZPOCET | BE157: =IF(N157="základní",J157,0) -> 0 | BF157: =IF(N157="snížená",J157,0) -> 0 | BG157: =IF(N157="zákl. přenesená",J157,0) -> 0 | BH157: =IF(N157="sníž. přenesená",J157,0) -> 0 | BI157: =IF(N157="nulová",J157,0) -> 0 | BJ157: 1 | BK157: =ROUND(I157*H157,2) -> 0 | BL157: 4 | BM157: 368308363
C158: 24 | D158: K | E158: 985131111 | F158: Očištění ploch stěn, rubu kleneb a podlah tlakovou vodou | G158: m2 | H158: 425.69839 | I158: 0 | J158: =ROUND(I158*H158,2) -> 0 | N158: základní | O158: 0.273 | P158: =O158*H158 -> 116.21566 | Q158: 0 | R158: =Q158*H158 -> 0 | S158: 0 | T158: =S158*H158 -> 0 | AR158: 4 | AT158: K | AU158: 2 | AY158: ROZPOCET | BE158: =IF(N158="základní",J158,0) -> 0 | BF158: =IF(N158="snížená",J158,0) -> 0 | BG158: =IF(N158="zákl. přenesená",J158,0) -> 0 | BH158: =IF(N158="sníž. přenesená",J158,0) -> 0 | BI158: =IF(N158="nulová",J158,0) -> 0 | BJ158: 1 | BK158: =ROUND(I158*H158,2) -> 0 | BL158: 4 | BM158: -740080780
D159: D | E159: 997 | F159: Přesun sutě - Přesun sutě | J159: =BK159 -> 0 | P159: =SUM(P160:P163) -> 0.04753047 | R159: =SUM(R160:R163) -> 0 | T159: =SUM(T160:T163) -> 0 | AR159: 1 | AT159: D | AU159: 1 | AY159: ROZPOCET | BK159: =SUM(BK160:BK163) -> 0
C160: 25 | D160: K | E160: 997002611 | F160: Nakládání suti a vybouraných hmot | G160: t | H160: 0.14807 | I160: 0 | J160: =ROUND(I160*H160,2) -> 0 | N160: základní | O160: 0.136 | P160: =O160*H160 -> 0.02013752 | Q160: 0 | R160: =Q160*H160 -> 0 | S160: 0 | T160: =S160*H160 -> 0 | AR160: 4 | AT160: K | AU160: 2 | AY160: ROZPOCET | BE160: =IF(N160="základní",J160,0) -> 0 | BF160: =IF(N160="snížená",J160,0) -> 0 | BG160: =IF(N160="zákl. přenesená",J160,0) -> 0 | BH160: =IF(N160="sníž. přenesená",J160,0) -> 0 | BI160: =IF(N160="nulová",J160,0) -> 0 | BJ160: 1 | BK160: =ROUND(I160*H160,2) -> 0 | BL160: 4 | BM160: -1560216636
C161: 26 | D161: K | E161: 997013501 | F161: Odvoz suti a vybouraných hmot na skládku nebo meziskládku do 1 km se složením | G161: t | H161: 0.14807 | I161: 0 | J161: =ROUND(I161*H161,2) -> 0 | N161: základní | O161: 0.125 | P161: =O161*H161 -> 0.01850875 | Q161: 0 | R161: =Q161*H161 -> 0 | S161: 0 | T161: =S161*H161 -> 0 | AR161: 4 | AT161: K | AU161: 2 | AY161: ROZPOCET | BE161: =IF(N161="základní",J161,0) -> 0 | BF161: =IF(N161="snížená",J161,0) -> 0 | BG161: =IF(N161="zákl. přenesená",J161,0) -> 0 | BH161: =IF(N161="sníž. přenesená",J161,0) -> 0 | BI161: =IF(N161="nulová",J161,0) -> 0 | BJ161: 1 | BK161: =ROUND(I161*H161,2) -> 0 | BL161: 4 | BM161: -978110418
C162: 27 | D162: K | E162: 997013509 | F162: Příplatek k odvozu suti a vybouraných hmot na skládku ZKD 1 km přes 1 km | G162: t | H162: 1.4807 | I162: 0 | J162: =ROUND(I162*H162,2) -> 0 | N162: základní | O162: 0.006 | P162: =O162*H162 -> 0.0088842 | Q162: 0 | R162: =Q162*H162 -> 0 | S162: 0 | T162: =S162*H162 -> 0 | AR162: 4 | AT162: K | AU162: 2 | AY162: ROZPOCET | BE162: =IF(N162="základní",J162,0) -> 0 | BF162: =IF(N162="snížená",J162,0) -> 0 | BG162: =IF(N162="zákl. přenesená",J162,0) -> 0 | BH162: =IF(N162="sníž. přenesená",J162,0) -> 0 | BI162: =IF(N162="nulová",J162,0) -> 0 | BJ162: 1 | BK162: =ROUND(I162*H162,2) -> 0 | BL162: 4 | BM162: 2075975583
C163: 28 | D163: K | E163: 997013631 | F163: Poplatek za uložení na skládce (skládkovné) stavebního odpadu směsného kód odpadu 17 09 04 | G163: t | H163: 0.14807 | I163: 0 | J163: =ROUND(I163*H163,2) -> 0 | N163: základní | O163: 0 | P163: =O163*H163 -> 0 | Q163: 0 | R163: =Q163*H163 -> 0 | S163: 0 | T163: =S163*H163 -> 0 | AR163: 4 | AT163: K | AU163: 2 | AY163: ROZPOCET | BE163: =IF(N163="základní",J163,0) -> 0 | BF163: =IF(N163="snížená",J163,0) -> 0 | BG163: =IF(N163="zákl. přenesená",J163,0) -> 0 | BH163: =IF(N163="sníž. přenesená",J163,0) -> 0 | BI163: =IF(N163="nulová",J163,0) -> 0 | BJ163: 1 | BK163: =ROUND(I163*H163,2) -> 0 | BL163: 4 | BM163: -116605599
D164: D | E164: 998 | F164: Přesun hmot - Přesun hmot | J164: =BK164 -> 0 | P164: =P165 -> 37.24985 | R164: =R165 -> 0 | T164: =T165 -> 0 | AR164: 1 | AT164: D | AU164: 1 | AY164: ROZPOCET | BK164: =BK165 -> 0
C165: 29 | D165: K | E165: 998018001 | F165: Přesun hmot ruční pro budovy v do 6 m | G165: t | H165: 9.22026 | I165: 0 | J165: =ROUND(I165*H165,2) -> 0 | N165: základní | O165: 4.04 | P165: =O165*H165 -> 37.24985 | Q165: 0 | R165: =Q165*H165 -> 0 | S165: 0 | T165: =S165*H165 -> 0 | AR165: 4 | AT165: K | AU165: 2 | AY165: ROZPOCET | BE165: =IF(N165="základní",J165,0) -> 0 | BF165: =IF(N165="snížená",J165,0) -> 0 | BG165: =IF(N165="zákl. přenesená",J165,0) -> 0 | BH165: =IF(N165="sníž. přenesená",J165,0) -> 0 | BI165: =IF(N165="nulová",J165,0) -> 0 | BJ165: 1 | BK165: =ROUND(I165*H165,2) -> 0 | BL165: 4 | BM165: 1643297136
D166: D | E166: PSV | F166: Práce a dodávky PSV - Práce a dodávky PSV | J166: =BK166 -> 0 | P166: =P167+P174 -> 41.644162 | R166: =R167+R174 -> 0.24721 | T166: =T167+T174 -> 0.148074 | AR166: 2 | AT166: D | AU166: 0 | AY166: ROZPOCET | BK166: =BK167+BK174 -> 0
D167: D | E167: 764 | F167: Konstrukce klempířské - Konstrukce klempířské | J167: =BK167 -> 0 | P167: =SUM(P168:P173) -> 39.444162 | R167: =SUM(R168:R173) -> 0.24717 | T167: =SUM(T168:T173) -> 0.148074 | AR167: 2 | AT167: D | AU167: 1 | AY167: ROZPOCET | BK167: =SUM(BK168:BK173) -> 0
C168: 30 | D168: K | E168: 764002851 | F168: Demontáž oplechování parapetů do suti | G168: m | H168: 46.2 | I168: 0 | J168: =ROUND(I168*H168,2) -> 0 | N168: základní | O168: 0.195 | P168: =O168*H168 -> 9.009 | Q168: 0 | R168: =Q168*H168 -> 0 | S168: 0.00167 | T168: =S168*H168 -> 0.077154 | AR168: 16 | AT168: K | AU168: 2 | AY168: ROZPOCET | BE168: =IF(N168="základní",J168,0) -> 0 | BF168: =IF(N168="snížená",J168,0) -> 0 | BG168: =IF(N168="zákl. přenesená",J168,0) -> 0 | BH168: =IF(N168="sníž. přenesená",J168,0) -> 0 | BI168: =IF(N168="nulová",J168,0) -> 0 | BJ168: 1 | BK168: =ROUND(I168*H168,2) -> 0 | BL168: 16 | BM168: -459213108
C169: 31 | D169: K | E169: 764004863 | F169: Demontáž svodu k dalšímu použití | G169: m | H169: 18 | I169: 0 | J169: =ROUND(I169*H169,2) -> 0 | N169: základní | O169: 0.313 | P169: =O169*H169 -> 5.634 | Q169: 0 | R169: =Q169*H169 -> 0 | S169: 0.00394 | T169: =S169*H169 -> 0.07092 | AR169: 16 | AT169: K | AU169: 2 | AY169: ROZPOCET | BE169: =IF(N169="základní",J169,0) -> 0 | BF169: =IF(N169="snížená",J169,0) -> 0 | BG169: =IF(N169="zákl. přenesená",J169,0) -> 0 | BH169: =IF(N169="sníž. přenesená",J169,0) -> 0 | BI169: =IF(N169="nulová",J169,0) -> 0 | BJ169: 1 | BK169: =ROUND(I169*H169,2) -> 0 | BL169: 16 | BM169: 70237222
C170: 32 | D170: K | E170: 764216646 | F170: Oplechování rovných parapetů celoplošně lepené z Pz s povrchovou úpravou rš 500 mm | G170: m | H170: 46.2 | I170: 0 | J170: =ROUND(I170*H170,2) -> 0 | N170: základní | O170: 0.413 | P170: =O170*H170 -> 19.0806 | Q170: 0.00535 | R170: =Q170*H170 -> 0.24717 | S170: 0 | T170: =S170*H170 -> 0 | AR170: 16 | AT170: K | AU170: 2 | AY170: ROZPOCET | BE170: =IF(N170="základní",J170,0) -> 0 | BF170: =IF(N170="snížená",J170,0) -> 0 | BG170: =IF(N170="zákl. přenesená",J170,0) -> 0 | BH170: =IF(N170="sníž. přenesená",J170,0) -> 0 | BI170: =IF(N170="nulová",J170,0) -> 0 | BJ170: 1 | BK170: =ROUND(I170*H170,2) -> 0 | BL170: 16 | BM170: 858438668
...
